BEGIN:VCALENDAR
VERSION:2.0
PRODID:-//Squarespace Inc/Squarespace 6//v6//EN
BEGIN:VEVENT
UID:5800f6603e00be6680f94bc1@squarespace.com
DTSTAMP:20161014T151924Z
DTSTART:20161103T200000Z
DTEND:20161103T220000Z
SUMMARY:Brisbane West Moreton Teacher Librarian Network (Secondary)
END:VEVENT
END:VCALENDAR
