BEGIN:VCALENDAR
VERSION:2.0
PRODID:-//Squarespace Inc/Squarespace 6//v6//EN
BEGIN:VEVENT
UID:57a98850d1758eb27ea80863@squarespace.com
DTSTAMP:20160809T073828Z
DTSTART:20161107T090000Z
DTEND:20161107T100000Z
SUMMARY:Ipswich StorySports Heats 
END:VEVENT
END:VCALENDAR
