BEGIN:VCALENDAR
VERSION:2.0
PRODID:-//Squarespace Inc/Squarespace 6//v6//EN
BEGIN:VEVENT
UID:57a9887d20099e1140952d67@squarespace.com
DTSTAMP:20160809T073857Z
DTSTART:20161108T090000Z
DTEND:20161108T100000Z
SUMMARY:Ipswich StorySports Heats
END:VEVENT
END:VCALENDAR
