BEGIN:VCALENDAR
VERSION:2.0
PRODID:-//Squarespace Inc/Squarespace 6//v6//EN
BEGIN:VEVENT
UID:56c1ae5e356fb0ec92af3877@squarespace.com
DTSTAMP:20160215T105535Z
DTSTART:20160214T190000Z
DTEND:20160214T200000Z
SUMMARY:FNQ Subcommittee AGM & High Tea
END:VEVENT
END:VCALENDAR
