BEGIN:VCALENDAR
VERSION:2.0
PRODID:-//Squarespace Inc/Squarespace 6//v6//EN
BEGIN:VEVENT
UID:56c1aebad210b84d228baa61@squarespace.com
DTSTAMP:20160215T105727Z
DTSTART:20160218T233000Z
DTEND:20160220T023000Z
SUMMARY:Romancing the Stars - Brisbane Event
END:VEVENT
END:VCALENDAR
