BEGIN:VCALENDAR
VERSION:2.0
PRODID:-//Squarespace Inc/Squarespace 6//v6//EN
BEGIN:VEVENT
UID:56c1af5ac2ea51bda641552a@squarespace.com
DTSTAMP:20160215T105959Z
DTSTART:20160226T140000Z
DTEND:20160226T200000Z
SUMMARY:Augmented Libraries Summit 2016
END:VEVENT
END:VCALENDAR
