BEGIN:VCALENDAR
VERSION:2.0
PRODID:-//Squarespace Inc/Squarespace 6//v6//EN
BEGIN:VEVENT
UID:56c1af21c6fc08aee6422810@squarespace.com
DTSTAMP:20160215T105814Z
DTSTART:20160226T230000Z
DTEND:20160228T020000Z
SUMMARY:Romancing the Stars - Sunshine Coast Event
END:VEVENT
END:VCALENDAR
