BEGIN:VCALENDAR
VERSION:2.0
PRODID:-//Squarespace Inc/Squarespace 6//v6//EN
BEGIN:VEVENT
UID:56c1afe386db4351af256770@squarespace.com
DTSTAMP:20160215T110133Z
DTSTART:20160301T113000Z
DTEND:20160302T003000Z
SUMMARY:Readers Cup registration (1/3/16-24/3/16)
END:VEVENT
END:VCALENDAR
