BEGIN:VCALENDAR
VERSION:2.0
PRODID:-//Squarespace Inc/Squarespace 6//v6//EN
BEGIN:VEVENT
UID:56c1ad184c2f853fa808a8af@squarespace.com
DTSTAMP:20160215T105038Z
DTSTART:20160317T173000Z
DTEND:20160317T183000Z
SUMMARY:LOGNET Term 1 Meeting
END:VEVENT
END:VCALENDAR
