BEGIN:VCALENDAR
VERSION:2.0
PRODID:-//Squarespace Inc/Squarespace 6//v6//EN
BEGIN:VEVENT
UID:56d93760859fd0639254ef11@squarespace.com
DTSTAMP:20160304T072215Z
DTSTART:20160319T130000Z
DTEND:20160319T190000Z
SUMMARY:Kids' Lit Quiz Australian Final
END:VEVENT
END:VCALENDAR
