BEGIN:VCALENDAR
VERSION:2.0
PRODID:-//Squarespace Inc/Squarespace 6//v6//EN
BEGIN:VEVENT
UID:56d937c1f699bb67dba9c0ab@squarespace.com
DTSTAMP:20160308T071411Z
DTSTART:20160319T133000Z
DTEND:20160319T143000Z
SUMMARY:QSLA State Committee AGM
END:VEVENT
END:VCALENDAR
