BEGIN:VCALENDAR
VERSION:2.0
PRODID:-//Squarespace Inc/Squarespace 6//v6//EN
BEGIN:VEVENT
UID:56d938bd45bf21758847aa9f@squarespace.com
DTSTAMP:20160304T072826Z
DTSTART:20160319T143000Z
DTEND:20160319T210000Z
SUMMARY:QSLA State Committee Face-to-Face Meeting
END:VEVENT
END:VCALENDAR
