BEGIN:VCALENDAR
VERSION:2.0
PRODID:-//Squarespace Inc/Squarespace 6//v6//EN
BEGIN:VEVENT
UID:56dd24f120c647a2ce5a4fbc@squarespace.com
DTSTAMP:20160307T065129Z
DTSTART:20160324T060000Z
DTEND:20160324T070000Z
SUMMARY:End of Term 1
END:VEVENT
END:VCALENDAR
