BEGIN:VCALENDAR
VERSION:2.0
PRODID:-//Squarespace Inc/Squarespace 6//v6//EN
BEGIN:VEVENT
UID:56dd254af8baf30cf9786c12@squarespace.com
DTSTAMP:20160307T065258Z
DTSTART:20160325T060000Z
DTEND:20160325T070000Z
SUMMARY:Good Friday
END:VEVENT
END:VCALENDAR
