BEGIN:VCALENDAR
VERSION:2.0
PRODID:-//Squarespace Inc/Squarespace 6//v6//EN
BEGIN:VEVENT
UID:56d9368d555986147c7d25ad@squarespace.com
DTSTAMP:20160304T072021Z
DTSTART:20160310T140000Z
DTEND:20160311T200000Z
SUMMARY:Kids' Lit Quiz
END:VEVENT
END:VCALENDAR
