BEGIN:VCALENDAR
VERSION:2.0
PRODID:-//Squarespace Inc/Squarespace 6//v6//EN
BEGIN:VEVENT
UID:56c1ae0dc6fc08aee64224eb@squarespace.com
DTSTAMP:20160215T105349Z
DTSTART:20160309T203000Z
DTEND:20160309T213000Z
SUMMARY:Brisbane Subcommittee AGM & Term 1 Meeting
END:VEVENT
END:VCALENDAR
