BEGIN:VCALENDAR
VERSION:2.0
PRODID:-//Squarespace Inc/Squarespace 6//v6//EN
BEGIN:VEVENT
UID:56d9351b7da24f75d2ece767@squarespace.com
DTSTAMP:20160304T071602Z
DTSTART:20160309T140000Z
DTEND:20160311T200000Z
SUMMARY:Somerset Celebration of Literature 
END:VEVENT
END:VCALENDAR
