BEGIN:VCALENDAR
VERSION:2.0
PRODID:-//Squarespace Inc/Squarespace 6//v6//EN
BEGIN:VEVENT
UID:56dd28bdb6aa6054fed342e9@squarespace.com
DTSTAMP:20160307T070741Z
DTSTART:20160402T063000Z
DTEND:20160402T073000Z
SUMMARY:International Children's Book Day IBBY
END:VEVENT
END:VCALENDAR
