BEGIN:VCALENDAR
VERSION:2.0
PRODID:-//Squarespace Inc/Squarespace 6//v6//EN
BEGIN:VEVENT
UID:56d8ca08b09f953afb248f7e@squarespace.com
DTSTAMP:20160304T074129Z
DTSTART:20160420T210000Z
DTEND:20160420T230000Z
SUMMARY:Unleashing the potential of digital literacy tools - FREE* PD @ SLQ
END:VEVENT
END:VCALENDAR
