BEGIN:VCALENDAR
VERSION:2.0
PRODID:-//Squarespace Inc/Squarespace 6//v6//EN
BEGIN:VEVENT
UID:5719d6d3f699bbe29b4fdf12@squarespace.com
DTSTAMP:20160422T080032Z
DTSTART:20160511T131500Z
DTEND:20160511T143000Z
SUMMARY:Online Workshop with Meredith Costain
END:VEVENT
END:VCALENDAR
