BEGIN:VCALENDAR
VERSION:2.0
PRODID:-//Squarespace Inc/Squarespace 6//v6//EN
BEGIN:VEVENT
UID:56dd294f07eaa05aaabf72fe@squarespace.com
DTSTAMP:20160307T071007Z
DTSTART:20160516T063000Z
DTEND:20160522T073000Z
SUMMARY:Sydney Writers Festival
END:VEVENT
END:VCALENDAR
