BEGIN:VCALENDAR
VERSION:2.0
PRODID:-//Squarespace Inc/Squarespace 6//v6//EN
BEGIN:VEVENT
UID:5719d88b27d4bd85045fbebe@squarespace.com
DTSTAMP:20160422T075729Z
DTSTART:20160517T220000Z
DTEND:20160518T000000Z
SUMMARY:CBCA Book Slam
END:VEVENT
END:VCALENDAR
