BEGIN:VCALENDAR
VERSION:2.0
PRODID:-//Squarespace Inc/Squarespace 6//v6//EN
BEGIN:VEVENT
UID:56dd299e7da24f56fb1f4fa3@squarespace.com
DTSTAMP:20160307T071126Z
DTSTART:20160523T063000Z
DTEND:20160529T073000Z
SUMMARY:Library & Information Week
END:VEVENT
END:VCALENDAR
