BEGIN:VCALENDAR
VERSION:2.0
PRODID:-//Squarespace Inc/Squarespace 6//v6//EN
BEGIN:VEVENT
UID:572fe8be4d088ea3a8f98b48@squarespace.com
DTSTAMP:20160509T013403Z
DTSTART:20160528T130000Z
DTEND:20160528T160000Z
SUMMARY:QSLA Brisbane Subcommittee presents: Marketing your Library - Creat
 e the WOW factor
END:VEVENT
END:VCALENDAR
