BEGIN:VCALENDAR
VERSION:2.0
PRODID:-//Squarespace Inc/Squarespace 6//v6//EN
BEGIN:VEVENT
UID:56399252e4b0e877f7ad6d15@squarespace.com
DTSTAMP:20151104T050921Z
DTSTART:20160530T130000Z
DTEND:20160601T200000Z
SUMMARY:EduTECH 2016
GEO:-27.476795;153.017671
LOCATION:Brisbane’s Convention & Exhibition Centre\, Merivale Street\, Sout
 h Brisbane\, QLD\, 4101\, Australia
END:VEVENT
END:VCALENDAR
