BEGIN:VCALENDAR
VERSION:2.0
PRODID:-//Squarespace Inc/Squarespace 6//v6//EN
BEGIN:VEVENT
UID:5719d4fb7c65e4686c0f5400@squarespace.com
DTSTAMP:20160422T074144Z
DTSTART:20160507T163000Z
DTEND:20160507T173000Z
SUMMARY:Planning a Series with James Moloney
END:VEVENT
END:VCALENDAR
