BEGIN:VCALENDAR
VERSION:2.0
PRODID:-//Squarespace Inc/Squarespace 6//v6//EN
BEGIN:VEVENT
UID:56dd2b8245bf214a0b4162c3@squarespace.com
DTSTAMP:20160307T071930Z
DTSTART:20160509T230000Z
DTEND:20160510T000000Z
SUMMARY:QSLA State Committee Teleconference
END:VEVENT
END:VCALENDAR
