BEGIN:VCALENDAR
VERSION:2.0
PRODID:-//Squarespace Inc/Squarespace 6//v6//EN
BEGIN:VEVENT
UID:56dd2bdd746fb9f114279a20@squarespace.com
DTSTAMP:20160307T072101Z
DTSTART:20160613T230000Z
DTEND:20160614T000000Z
SUMMARY:QSLA State Committee Teleconference
END:VEVENT
END:VCALENDAR
