BEGIN:VCALENDAR
VERSION:2.0
PRODID:-//Squarespace Inc/Squarespace 6//v6//EN
BEGIN:VEVENT
UID:56c1ad947c65e4b75a0b0f4e@squarespace.com
DTSTAMP:20160215T105242Z
DTSTART:20160616T170000Z
DTEND:20160616T183000Z
SUMMARY:LOGNET Term 2 Meeting
END:VEVENT
END:VCALENDAR
