BEGIN:VCALENDAR
VERSION:2.0
PRODID:-//Squarespace Inc/Squarespace 6//v6//EN
BEGIN:VEVENT
UID:5757cdc637013bb4b82710c4@squarespace.com
DTSTAMP:20160608T074910Z
DTSTART:20160620T080000Z
DTEND:20160620T090000Z
SUMMARY:BILBY Winners Announced
END:VEVENT
END:VCALENDAR
