BEGIN:VCALENDAR
VERSION:2.0
PRODID:-//Squarespace Inc/Squarespace 6//v6//EN
BEGIN:VEVENT
UID:5757ce9be707eb750db30d73@squarespace.com
DTSTAMP:20160608T075233Z
DTSTART:20160621T080000Z
DTEND:20160621T090000Z
SUMMARY:Code Club Australia Teaching Training - Clontarf
END:VEVENT
END:VCALENDAR
