BEGIN:VCALENDAR
VERSION:2.0
PRODID:-//Squarespace Inc/Squarespace 6//v6//EN
BEGIN:VEVENT
UID:56dd2a4f20c647a2ce5a6321@squarespace.com
DTSTAMP:20160307T071423Z
DTSTART:20160621T063000Z
DTEND:20160628T073000Z
SUMMARY:Out of the Box Festival
END:VEVENT
END:VCALENDAR
