BEGIN:VCALENDAR
VERSION:2.0
PRODID:-//Squarespace Inc/Squarespace 6//v6//EN
BEGIN:VEVENT
UID:56dd2ee445bf214a0b416cfb@squarespace.com
DTSTAMP:20160307T073356Z
DTSTART:20160623T070000Z
DTEND:20160623T080000Z
SUMMARY:Book Links Annual Lecture in Children's Literature
END:VEVENT
END:VCALENDAR
