BEGIN:VCALENDAR
VERSION:2.0
PRODID:-//Squarespace Inc/Squarespace 6//v6//EN
BEGIN:VEVENT
UID:5757ce2445bf21c047e93437@squarespace.com
DTSTAMP:20160608T075048Z
DTSTART:20160623T080000Z
DTEND:20160623T090000Z
SUMMARY:Code Club Australia Teacher Training - Cairns
END:VEVENT
END:VCALENDAR
