BEGIN:VCALENDAR
VERSION:2.0
PRODID:-//Squarespace Inc/Squarespace 6//v6//EN
BEGIN:VEVENT
UID:5775db4e6b8f5b56357df946@squarespace.com
DTSTAMP:20160701T025923Z
DTSTART:20160720T194500Z
DTEND:20160720T214500Z
SUMMARY:Great Reads for Adolescents
GEO:-27.451448;153.031483
LOCATION:Brisbane Grammar School\, Gregory Terrace\, Bowen Hills\, QLD\, 40
 06\, Australia
END:VEVENT
END:VCALENDAR
