BEGIN:VCALENDAR
VERSION:2.0
PRODID:-//Squarespace Inc/Squarespace 6//v6//EN
BEGIN:VEVENT
UID:557eb382e4b0c6af00309603@squarespace.com
DTSTAMP:20150615T111609Z
DTSTART:20160722T123000Z
DTEND:20160722T193000Z
SUMMARY:UQL Cyberschool Seminar
GEO:-27.495656;153.017974
LOCATION:The Women's College\, Sir William Macgregor Dr\, St Lucia\, QLD\, 
 4067\, Australia
END:VEVENT
END:VCALENDAR
