BEGIN:VCALENDAR
VERSION:2.0
PRODID:-//Squarespace Inc/Squarespace 6//v6//EN
BEGIN:VEVENT
UID:577128912994cae381dcf08d@squarespace.com
DTSTAMP:20160627T132225Z
DTSTART:20160724T133000Z
DTEND:20160727T143000Z
SUMMARY:The Curtis Coast Literary Carnivale
END:VEVENT
END:VCALENDAR
