BEGIN:VCALENDAR
VERSION:2.0
PRODID:-//Squarespace Inc/Squarespace 6//v6//EN
BEGIN:VEVENT
UID:56dd2c32a3360c8bedd0fa10@squarespace.com
DTSTAMP:20160307T072226Z
DTSTART:20160725T230000Z
DTEND:20160726T000000Z
SUMMARY:QSLA State Committee Teleconference
END:VEVENT
END:VCALENDAR
