BEGIN:VCALENDAR
VERSION:2.0
PRODID:-//Squarespace Inc/Squarespace 6//v6//EN
BEGIN:VEVENT
UID:57a9878c9f7456ca5182bd3c@squarespace.com
DTSTAMP:20160809T073527Z
DTSTART:20160811T200000Z
DTEND:20160811T210000Z
SUMMARY:Brisbane West Moreton Teacher Librarian Network (Secondary)
END:VEVENT
END:VCALENDAR
