BEGIN:VCALENDAR
VERSION:2.0
PRODID:-//Squarespace Inc/Squarespace 6//v6//EN
BEGIN:VEVENT
UID:563aa8c0e4b05575dd4428fc@squarespace.com
DTSTAMP:20151105T005659Z
DTSTART:20160818T130000Z
DTEND:20160824T200000Z
SUMMARY:35th International Congress Auckland
END:VEVENT
END:VCALENDAR
