BEGIN:VCALENDAR
VERSION:2.0
PRODID:-//Squarespace Inc/Squarespace 6//v6//EN
BEGIN:VEVENT
UID:56dd2d47d51cd4224e4ce01f@squarespace.com
DTSTAMP:20160308T064956Z
DTSTART:20160820T063000Z
DTEND:20160826T073000Z
SUMMARY:BOOK WEEK
END:VEVENT
END:VCALENDAR
