BEGIN:VCALENDAR
VERSION:2.0
PRODID:-//Squarespace Inc/Squarespace 6//v6//EN
BEGIN:VEVENT
UID:56dd30c01bbee050333fefc5@squarespace.com
DTSTAMP:20160307T074152Z
DTSTART:20160820T130000Z
DTEND:20160828T190000Z
SUMMARY:Storylines Festival New Zealand
END:VEVENT
END:VCALENDAR
