BEGIN:VCALENDAR
VERSION:2.0
PRODID:-//Squarespace Inc/Squarespace 6//v6//EN
BEGIN:VEVENT
UID:56dd2c88555986f25c75606a@squarespace.com
DTSTAMP:20160307T072352Z
DTSTART:20160822T230000Z
DTEND:20160823T000000Z
SUMMARY:QSLA State Committee Teleconference (TBA)
END:VEVENT
END:VCALENDAR
