BEGIN:VCALENDAR
VERSION:2.0
PRODID:-//Squarespace Inc/Squarespace 6//v6//EN
BEGIN:VEVENT
UID:5757cee61bbee06dff2bb21b@squarespace.com
DTSTAMP:20160608T075340Z
DTSTART:20160824T080000Z
DTEND:20160824T090000Z
SUMMARY:Code Club Australia Teacher Training - Maryborough
END:VEVENT
END:VCALENDAR
