BEGIN:VCALENDAR
VERSION:2.0
PRODID:-//Squarespace Inc/Squarespace 6//v6//EN
BEGIN:VEVENT
UID:56dd3016555986f25c756d17@squarespace.com
DTSTAMP:20160307T073902Z
DTSTART:20160825T130000Z
DTEND:20160904T190000Z
SUMMARY:Melbourne Writers' Festival
END:VEVENT
END:VCALENDAR
