BEGIN:VCALENDAR
VERSION:2.0
PRODID:-//Squarespace Inc/Squarespace 6//v6//EN
BEGIN:VEVENT
UID:55951ae3e4b0ff871f633952@squarespace.com
DTSTAMP:20150702T112239Z
DTSTART:20160829T130000Z
DTEND:20160901T210000Z
SUMMARY:ALIA National 2016 Conference
GEO:-34.923683;138.597584
LOCATION:Adelaide Convention Centre\, 1\, 15 Leigh St\, Adelaide\, SA\, 500
 0\, Australia
END:VEVENT
END:VCALENDAR
