BEGIN:VCALENDAR
VERSION:2.0
PRODID:-//Squarespace Inc/Squarespace 6//v6//EN
BEGIN:VEVENT
UID:56dd314bf85082e7fccdc11d@squarespace.com
DTSTAMP:20160307T074411Z
DTSTART:20160829T130000Z
DTEND:20160901T190000Z
SUMMARY:Melbourne Writers' Festival - School Programme
END:VEVENT
END:VCALENDAR
