BEGIN:VCALENDAR
VERSION:2.0
PRODID:-//Squarespace Inc/Squarespace 6//v6//EN
BEGIN:VEVENT
UID:57bbf7b65016e15a593bdab1@squarespace.com
DTSTAMP:20160823T071432Z
DTSTART:20160829T233000Z
DTEND:20160830T003000Z
SUMMARY:QSLA State Committee Teleconference
END:VEVENT
END:VCALENDAR
