BEGIN:VCALENDAR
VERSION:2.0
PRODID:-//Squarespace Inc/Squarespace 6//v6//EN
BEGIN:VEVENT
UID:56dd2f87d210b82151191cc5@squarespace.com
DTSTAMP:20160307T073639Z
DTSTART:20160804T130000Z
DTEND:20160807T190000Z
SUMMARY:Byron Bay Writers' Festival
END:VEVENT
END:VCALENDAR
