BEGIN:VCALENDAR
VERSION:2.0
PRODID:-//Squarespace Inc/Squarespace 6//v6//EN
BEGIN:VEVENT
UID:57a986742e69cf8109b34b84@squarespace.com
DTSTAMP:20160809T073324Z
DTSTART:20160902T210000Z
DTEND:20160902T220000Z
SUMMARY:Nominations for QSLA Awards CLOSE
END:VEVENT
END:VCALENDAR
